BEGIN:VCALENDAR
VERSION:2.0
PRODID:-//KULT-BLECH-SZENE - ECPv6.15.11//NONSGML v1.0//EN
CALSCALE:GREGORIAN
METHOD:PUBLISH
X-ORIGINAL-URL:https://kult-blech-szene.de
X-WR-CALDESC:Veranstaltungen für KULT-BLECH-SZENE
REFRESH-INTERVAL;VALUE=DURATION:PT1H
X-Robots-Tag:noindex
X-PUBLISHED-TTL:PT1H
BEGIN:VTIMEZONE
TZID:UTC
BEGIN:STANDARD
TZOFFSETFROM:+0000
TZOFFSETTO:+0000
TZNAME:UTC
DTSTART:20250101T000000
END:STANDARD
END:VTIMEZONE
BEGIN:VEVENT
DTSTART;TZID=UTC:20260619T090000
DTEND;TZID=UTC:20260621T163000
DTSTAMP:20260422T091238
CREATED:20241213T073842Z
LAST-MODIFIED:20251129T195829Z
UID:3308-1781859600-1782059400@kult-blech-szene.de
SUMMARY:Kult am Turm 2026
DESCRIPTION:
URL:https://kult-blech-szene.de/termin/kult-am-turm-2025/
LOCATION:49716 Meppen\, Am Rögelberg 16
ATTACH;FMTTYPE=image/jpeg:https://kult-blech-szene.de/wp-content/uploads/2023/03/LMOO2365-kult-am-turm.jpg
ORGANIZER;CN="Kult-Blech-Szene e.V.":MAILTO:kult-blech-szene@t-online.de
END:VEVENT
END:VCALENDAR